BEGIN:VCALENDAR
VERSION:2.0
PRODID:-//Plone.org//NONSGML plone.app.event//EN
X-WR-TIMEZONE:Europe/Oslo
BEGIN:VEVENT
SUMMARY:Kick off Bergen – Russ 2024
DTSTART;TZID=Europe/Oslo;VALUE=DATE-TIME:20231124T060000
DTEND;TZID=Europe/Oslo;VALUE=DATE-TIME:20231124T143000
DTSTAMP;VALUE=DATE-TIME:20260423T014805Z
UID:88c3fafb57fa46658b78b1993edbca8d@127.0.0.1:8051
CATEGORIES:Hovedarrangement
CREATED;VALUE=DATE-TIME:20231116T100016Z
DESCRIPTION:Saman skapa ein kjekk\, trygg og inkluderande russetid for all
 e.
LAST-MODIFIED;VALUE=DATE-TIME:20231116T104600Z
URL:https://vestruss.no/events/kick-off-bergen-2013-russ-2024
END:VEVENT
BEGIN:VTIMEZONE
TZID:Europe/Oslo
X-LIC-LOCATION:Europe/Oslo
BEGIN:STANDARD
DTSTART;VALUE=DATE-TIME:20231029T020000
TZNAME:CET
TZOFFSETFROM:+0200
TZOFFSETTO:+0100
END:STANDARD
END:VTIMEZONE
END:VCALENDAR
