BEGIN:VCALENDAR
VERSION:2.0
PRODID:-//Plone.org//NONSGML plone.app.event//EN
X-WR-TIMEZONE:Europe/Oslo
BEGIN:VEVENT
SUMMARY:Kick off Bergen – Russestyrenes representanter i Vestland 2026
DTSTART;TZID=Europe/Oslo;VALUE=DATE-TIME:20251127T133000
DTEND;TZID=Europe/Oslo;VALUE=DATE-TIME:20251128T143000
DTSTAMP;VALUE=DATE-TIME:20260422T091241Z
UID:ee9c542276854878a4eb249e1697d726@127.0.0.1:8051
ATTENDEE;CN="Representanter fra russestyrene i Vestland";ROLE=REQ-PARTICIP
 ANT:Representanter fra russestyrene i Vestland
CATEGORIES:Hovedarrangement
CONTACT:Hege Gjerdevik Osebakken\, Hege.Bugge.Gjerdevik.Osebakken@vlfk.no
CREATED;VALUE=DATE-TIME:20231116T100016Z
DESCRIPTION:Saman skapa ein kjekk\, trygg og inkluderande russetid for all
 e.
LAST-MODIFIED;VALUE=DATE-TIME:20251124T114036Z
LOCATION:Amalie Skram VGS
URL:https://vestruss.no/events/kick-off-bergen-2026
END:VEVENT
BEGIN:VTIMEZONE
TZID:Europe/Oslo
X-LIC-LOCATION:Europe/Oslo
BEGIN:STANDARD
DTSTART;VALUE=DATE-TIME:20251026T020000
TZNAME:CET
TZOFFSETFROM:+0200
TZOFFSETTO:+0100
END:STANDARD
END:VTIMEZONE
END:VCALENDAR
