BEGIN:VCALENDAR
VERSION:2.0
PRODID:-//Plone.org//NONSGML plone.app.event//EN
X-WR-TIMEZONE:Europe/Oslo
BEGIN:VEVENT
SUMMARY:Trafikksikrings­arrangement
DTSTART;TZID=Europe/Oslo;VALUE=DATE-TIME:20210430T093000
DTSTAMP;VALUE=DATE-TIME:20260422T104436Z
UID:a022b2f0f7744482b52ef9717959018f@127.0.0.1:8051
ATTENDEE;CN="Trygg Trafikk";ROLE=REQ-PARTICIPANT:Trygg Trafikk
CATEGORIES:Arkiv
CONTACT:Knut Olav Nestås\, Trygg Trafikk\, 41206132\, nestas@tryggtrafikk
 .no
CREATED;VALUE=DATE-TIME:20201022T154140Z
DESCRIPTION:Fredag 30. april får alle vidaregåande skular i Vestland til
 bod om å delta på eit digitalt trafikksikringsarrangement for sine avgan
 gselevar. Arrangementet fungerer som ein erstatning for det tidlegare arra
 ngementet i Grieghallen som har vore gjennomført sidan 1989.
LAST-MODIFIED;VALUE=DATE-TIME:20250507T112837Z
LOCATION:Digitalt
URL:https://vestruss.no/news/copy_of_grieghallen
END:VEVENT
BEGIN:VTIMEZONE
TZID:Europe/Oslo
X-LIC-LOCATION:Europe/Oslo
BEGIN:DAYLIGHT
DTSTART;VALUE=DATE-TIME:20210328T030000
TZNAME:CEST
TZOFFSETFROM:+0100
TZOFFSETTO:+0200
END:DAYLIGHT
END:VTIMEZONE
END:VCALENDAR
