BEGIN:VCALENDAR
VERSION:2.0
PRODID:-//Plone.org//NONSGML plone.app.event//EN
X-WR-TIMEZONE:Europe/Oslo
BEGIN:VEVENT
SUMMARY:Gratis kontroll av russekjøretøy 2025
DTSTART;TZID=Europe/Oslo;VALUE=DATE-TIME:20250211T150000
DTSTAMP;VALUE=DATE-TIME:20260422T103931Z
UID:4df6f5dca0de475194c820e602ea9686@127.0.0.1:8051
ATTENDEE;CN=" ";ROLE=REQ-PARTICIPANT: 
ATTENDEE;CN=;ROLE=REQ-PARTICIPANT:
CATEGORIES:Nyhet,Hovedarrangement
CONTACT:https://www.vegvesen.no/kjoretoy/kjop-og-salg/russ/gratis-kontroll
 -av-russekjoretoy/vest/
CREATED;VALUE=DATE-TIME:20250211T150133Z
LAST-MODIFIED;VALUE=DATE-TIME:20250507T113818Z
URL:https://vestruss.no/news/gratis-kontroll-av-russekjoretoy-2025
END:VEVENT
BEGIN:VTIMEZONE
TZID:Europe/Oslo
X-LIC-LOCATION:Europe/Oslo
BEGIN:STANDARD
DTSTART;VALUE=DATE-TIME:20241027T020000
TZNAME:CET
TZOFFSETFROM:+0200
TZOFFSETTO:+0100
END:STANDARD
END:VTIMEZONE
END:VCALENDAR
