BEGIN:VCALENDAR
VERSION:2.0
PRODID:-//Plone.org//NONSGML plone.app.event//EN
X-WR-TIMEZONE:Europe/Oslo
BEGIN:VEVENT
SUMMARY:Russedåp 2026
DTSTART;VALUE=DATE:20260513
DTEND;VALUE=DATE:20260514
DTSTAMP;VALUE=DATE-TIME:20260422T092526Z
UID:d38995b3cf7d4877926213bfa7f02866@127.0.0.1:8051
CATEGORIES:Nyhet,Hovedarrangement
CREATED;VALUE=DATE-TIME:20250317T120639Z
DESCRIPTION:For de skolene som har russedåp skjer dette 13. mai\, fra 13.
  mai til 19. juni kan du bruke russeklær på skolen
LAST-MODIFIED;VALUE=DATE-TIME:20251124T114652Z
URL:https://vestruss.no/russedap-2026
END:VEVENT
END:VCALENDAR
