BEGIN:VCALENDAR
VERSION:2.0
PRODID:-//Plone.org//NONSGML plone.app.event//EN
X-WR-TIMEZONE:Europe/Oslo
BEGIN:VEVENT
SUMMARY:Foreldremøte for russ Stord vgs
DTSTART;TZID=Europe/Oslo;VALUE=DATE-TIME:20230223T173000
DTEND;TZID=Europe/Oslo;VALUE=DATE-TIME:20230223T183000
DTSTAMP;VALUE=DATE-TIME:20260422T171024Z
UID:4615f3f7d7ed463da71390eee2dd92ef@127.0.0.1:8051
CATEGORIES:Hovedarrangement
CREATED;VALUE=DATE-TIME:20230217T135428Z
DESCRIPTION:Foreldremøte for russen ved Stord vidaregåande skule skal ve
 re torsdag 23. februar klokka 17.30-18.30.
LAST-MODIFIED;VALUE=DATE-TIME:20230220T100929Z
URL:https://vestruss.no/skoler/stord-vidaregaande-skule/foreldremote-for-r
 uss-stord-vgs
END:VEVENT
BEGIN:VTIMEZONE
TZID:Europe/Oslo
X-LIC-LOCATION:Europe/Oslo
BEGIN:STANDARD
DTSTART;VALUE=DATE-TIME:20221030T020000
TZNAME:CET
TZOFFSETFROM:+0200
TZOFFSETTO:+0100
END:STANDARD
END:VTIMEZONE
END:VCALENDAR
